Workbook

Sheet Cover
C11: ALLEGATO A) REVISIONE PERIODICA DELLE SOCIETA' PARTECIPATE AI SENSI DELL'ART. 20 DEL D.LGS. N. 175/2016

Sheet INDICE
D4: INDICE
B6: 01. | D6: SCHEDA ANAGRAFICA
B7: 02. | D7: RICOGNIZIONE DELLE SOCIETÀ PARTECIPATE
C8: 02.01. | D8: Ricognizione delle società a partecipazione diretta
C9: 02.02. | D9: Ricognizione delle società a partecipazione indiretta
C10: 02.03. | D10: Grafico delle relazioni tra partecipazioni
B11: 03. | D11: REQUISITI TESTO UNICO DELLE SOCIETÀ A PARTECIPAZIONE PUBBLICA (T.U.S.P.)
C12: 03.01. | D12: Finalità perseguite e attività ammesse (articoli 4 e 26)
C13: 03.02. | D13: Condizioni art. 20 co. 2
B14: 04. | D14: MANTENIMENTO SENZA INTERVENTI DI RAZIONALIZZAZIONE
B15: 05. | D15: AZIONI DI RAZIONALIZZAZIONE
C16: 05.01. | D16: Contenimento costi
C17: 05.02. | D17: Cessione/Alienazione quote
C18: 05.03. | D18: Liquidazione
C19: 05.04. | D19: Fusione/Incorporazione
C20: 05.05. | D20: Riepilogo
B21: 06. | D21: ELENCO MOTIVAZIONI

Sheet 01_Scheda_anagrafica
C2: LINEE GUIDA PER LE RICOGNIZIONI E I PIANI DI RAZIONALIZZAZIONE DEGLI ORGANISMI PARTECIPATI DAGLI ENTI TERRITORIALI (ART. 24 D.LGS. N. 175/2016)
B6: 01. SCHEDA ANAGRAFICA
C8: Tipologia Ente: | D8: Comune
C10: Denominazione Ente: | D10: PIEMONTE | J10: Impostare elenco enti
C12: Codice fiscale dell'Ente: | D12: 1299070019 | J12: Impostare elenco codici fiscali
C14: L'ente ha già adottato il piano operativo di razionalizzazione ai sensi dell'art. 1 co. 612, l. n. 190/2014 | G14: SI
C18: Dati del referente/responsabile per la compilazione del piano | F18: RESPONSABILE SETTORE AFFARI GENERALI
C20: Nome: | F20: Cognome:
C21: STEFANIA | F21: GUIFFRE
C23: Recapiti:
C24: Indirizzo:
C25: PIAZZA LEUMANN 1
C26: Telefono: | F26: Fax:
C27: 0119670205
C28: Posta elettronica:
C29: guiffre@comune.pianezza.to.it
J38: Regione | K38: Codice fiscale
J40: Ente | K40: Codice fiscale
J41: ABRUZZO | K41: 80003170661
J42: BASILICATA | K42: 80002950766
J43: CALABRIA | K43: 02205340793
J44: CAMPANIA
J45: EMILIA-ROMAGNA
J46: FRIULI-VENEZIA GIULIA | K46: 80014930327
J47: LAZIO | K47: 80143490581
J48: LIGURIA | K48: 00849050109
J49: LOMBARDIA | K49: 80050050154
J50: MARCHE | K50: 80008630420
J51: MOLISE | K51: 00169440708
J52: PIEMONTE | K52: 80087670016
J53: PROVINCIA AUTONOMA DI BOLZANO | K53: 00390090215
J54: PROVINCIA AUTONOMA DI TRENTO | K54: 00337460224
J55: PUGLIA | K55: 80017210727
J56: SARDEGNA | K56: 80002870923
J57: SICILIA | K57: 80012000826
J58: TOSCANA | K58: 01386030488
J59: TRENTINO ALTO-ADIGE | K59: 80003690221
J60: UMBRIA | K60: 80000130544
J61: VALLE D'AOSTA
J62: VENETO | K62: 80007580279
...

Sheet 02.01_Ricognizione_Dirette
B1: 02. RICOGNIZIONE DELLE SOCIETÀ PARTECIPATE
B3: 02.01. Ricognizione delle società a partecipazione diretta
B4: Progressivo | C4: Codice fiscale società | D4: Denominazione società | E4: Anno di costituzione | F4: % Quota di partecipazione | G4: Attività svolta | H4: Partecipazione di controllo | I4: Società in house | J4: Quotata (ai sensi del d.lgs. n. 175/2016) | K4: Holding pura
B5: A | C5: B | D5: C | E5: D | F5: E | G5: F | H5: G | I5: H | J5: I | K5: J
B6: 1 | C6: 07937540016 | D6: SOCIETA' METROPOLITANA ACQUE TORINO S.P.A. | E6: 2000 | F6: 0.00021 | G6: SERVIZIO IDRICO INTEGRATO/GESTIONE DEPURATORE | H6: NO | I6: SI | J6: SI | K6: NO
B7: 2 | C7: 08239700019 | D7: ZONA OVEST TORINO S.R.L. | E7: 2001 | F7: 4.98 | G7: LA SOCIETÀ HA PER OGGETTO LO SVOLGIMENTO DI ATTIVITÀ VOLTE IN PARTICOLARE ALLA PROMOZIONE ED ALLO SVILUPPO SOCIALE, ECONOMICO ED INFRASTRUTTURALE DELLA ZONA OVEST DI TORINO, ATTRAVERSO LA REALIZZAZIONE DI PROGETTI SERVIZI DI INTERESSE GENERALE ED INIZIATIVE DI FINANZIAMENTO PUBBLICO E PRIVATO, NONCHÉ ULTERIORI ACCORDI DI PROGRAMMAZIONE NEGOZIATA E DI PARTENARIATO PUBBLICO-PRIVATO. | H7: NO | I7: SI | J7: NO | K7: NO
B8: 3 | C8: 08683840014 | D8: CIDIU S.P.A. | E8: 2003 | F8: 1.827 | G8: GESTIONE RIFIUTI SOLIDI URBANI, DALLA RACCOLTA ALLO SMALTIMENTO, NETTEZZA URBANA PER IL TRAMITE DI CIDIU SERVIZI, SERVIZIO IDRICO INTEGRATO ANCHE TRAMITE PARTECIPAZIONI. INTERVENTI DI BNIFICA E RIPRISTINO AMBIENTALI DI SITI INQUINATI. AUTOTRASPORTO DI COSE PER CONTO TERZI CON MEZZI D QUALUQUE PESO E PORTATA. | H8: NO | I8: NO | J8: NO | K8: NO
B10: Le società a partecipazione diretta (quotate e non quotate) sono sempre oggetto di ricognizione, anche se non controllate dall'ente.
B11: Colonna B: Inserire codice di 11 cifre per le società aventi sede in Italia; codice di 11 cifre seguito da "E" per le società aventi sede all'estero.
B12: Colonna C: Inserire la ragione sociale comprensiva della forma giuridica.
B13: Colonna E: Inserire valori comprensivi di decimali.
B14: Colonna F: Inserire una descrizione sintetica della/e attività effettivamente svolta/e.
B15: Colonna G: Indicare se la partecipazione detenuta dall'amministrazione è di controllo ai sensi dell'art. 2359 c.c.
B16: Colonna H: Indicare "SI" se l'Amministrazione esercita il controllo analogo o più Amministrazioni esercitano il controllo analogo congiunto.
B17: Colonna I: Indicare "SI" se la società emette azioni quotate in mercati regolamentati; se ha emesso, al 31/12/2015, strumenti finanziari quotati in mercati regolamentati;
B18: se sia partecipata da società quotate o che hanno emesso strumenti finanziari quotati.
B19: Colonna J: Indicare "SI" se la società ha come oggetto sociale esclusivo la gestione delle partecipazioni societarie per conto dell'Amministrazione.
L57: SI | M57: 2017
L58: NO | M58: =+M57-1 -> 2016
M59: =+M58-1 -> 2015
M60: =+M59-1 -> 2014
M61: =+M60-1 -> 2013
M62: =+M61-1 -> 2012
M63: =+M62-1 -> 2011
M64: =+M63-1 -> 2010
M65: =+M64-1 -> 2009
M66: =+M65-1 -> 2008
M67: =+M66-1 -> 2007
M68: =+M67-1 -> 2006
M69: =+M68-1 -> 2005
M70: =+M69-1 -> 2004
... M226: =+M225-1 -> 1848

Sheet 02.02_Ricognizione_Indirette
B1: 02. RICOGNIZIONE DELLE SOCIETÀ PARTECIPATE
B2: 02.02. Ricognizione delle società a partecipazione indiretta
B4: Progressivo | C4: Codice fiscale società | D4: Denominazione società | E4: Anno di costituzione | F4: Denominazione società/organismo tramite | G4: % Quota di partecipazione società/organismo tramite | H4: % Quota di partecipazione indiretta Amministrazione | I4: Attività svolta | J4: Partecipazione di controllo | K4: Società in house | L4: Quotata (ai sensi del d.lgs. n. 175/2016) | M4: Holding pura
B5: A | C5: B | D5: C | E5: D | F5: E | G5: F | H5: G | I5: H | J5: I | K5: J | L5: K | M5: L
B6: 1 | C6: 060877720014 | D6: RISORSE IDRICHE S.P.A. | E6: 1991 | F6: SOCIETA' METROPOLITANA ACQUE TORINO S.P.A. | G6: 0.00021 | H6: 0.00019 | I6: ENGINEERING | J6: NO | K6: SI
B7: 2 | C7: 09909860018 | D7: AIDA AMBIENTE S.R.L. | E7: 2008 | F7: SOCIETA' METROPOLITANA ACQUE TORINO S.P.A. | G7: 0.00021 | H7: 0.00011 | I7: SERVIZIO IDRICO INTEGRATO/GESTIONE DEPURATORE | J7: NO | K7: SI
B8: 3 | C8: 08448160013 | D8: NORD OVEST SERVIZI S.P.A. | E8: 2002 | F8: SOCIETA' METROPOLITANA ACQUE TORINO S.P.A. | G8: 0.00021 | H8: 2e-05 | I8: HOLDING | J8: NO | K8: NO
B9: 4 | C9: 02778560041 | D9: MONDO ACQUA S.P.A. | E9: 2000 | F9: SOCIETA' METROPOLITANA ACQUE TORINO S.P.A. | G9: 0.00021 | H9: 1e-05 | I9: SERVIZIO IDRICO INTEGRATO | J9: NO | K9: NO
B10: 5 | C10: 07154400019 | D10: ENVIRONMENT PARK S.P.A. | E10: 1997 | F10: SOCIETA' METROPOLITANA ACQUE TORINO S.P.A. | G10: 0.00021 | H10: 7.1e-06 | I10: ATTIVITA' STRUMENTALI RELATIVE AL SERVIZIO IDRICO INTEGRATO (ATTIVITA' DI RICERCA FINALIZZATA ALLO SVILUPPO SOSTENIBILE) | J10: NO | K10: NO
B11: 6 | C11: 01985420023 | D11: S.I.I S.P.A. | E11: 2000 | F11: SOCIETA' METROPOLITANA ACQUE TORINO S.P.A. | G11: 0.00021 | H11: 4e-05 | I11: SERVIZIO IDRICO INTEGRATO | J11: NO | K11: NO
B12: 7 | C12: 11575990012 | D12: UTILITY ALLIANCE DEL PIEMONTE | E12: 2016 | F12: SOCIETA' METROPOLITANA ACQUE TORINO S.P.A. | G12: 0.00021 | H12: 1.5e-05 | I12: SERVIZIO IDRICO INTEGRATO | J12: NO | K12: NO
B13: 8 | C13: 06756810013 | D13: CIDIU SERVIZI S.P.A. | E13: 1994 | F13: CIDIU S.P.A. | G13: 1.827 | H13: 1.827 | I13: SERVIZI DI IGIENE AMBIENTALE: RACCOLTA TRASPORTO SMALTIMENTO RIFIUTI E NETTEZZA URBANA | J13: NO | K13: SI
B14: 9 | C14: 07937540016 | D14: SOCIETA' METROPOLITANA ACQUE TORINO S.P.A. | E14: 2000 | F14: CIDIU S.P.A. | G14: 1.827 | H14: 0.19 | I14: SERVIZIO IDRICO INTEGRATO/GESTIONE DEPURATORE | J14: NO | K14: SI
B16: Le società a partecipazione indiretta (quotate e non quotate) sono oggetto di ricognizione solo se detenute dall’ente per il tramite di una società/organismo sottoposto a controllo da parte dello stesso.
B17: Colonna B: Inserire codice di 11 cifre per le società aventi sede in Italia; codice di 11 cifre seguito da "E" per le società aventi sede all'estero.
B18: Colonna C: Inserire la ragione sociale comprensiva della forma giuridica.
B19: Colonna E: Inserire la denominazione delle società/organismi (1 o +) attraverso le quali l'ente partecipa alle medesime. Per le indirette di livello successivo, inserire la denominazione delle società/organismi
B20: partecipanti (1 o +) del livello immediatamente precedente.
B21: Colonna F: indicare separatamente ciascuna quota di partecipazione (comprensiva di decimali) qualora la partecipazione sia detenuta attraverso 2 o + società/organismi tramite.
B22: Colonna G: indicare una unica quota di partecipazione (comprensiva di decimali) determinata in proporzione alla quote di partecipazione dei livelli precedenti.
B23: Colonna H: Inserire una descrizione sintetica della/e attività effettivamente svolta/e.
B24: Colonna I: Indicare se la partecipazione detenuta dall'amministrazione è di controllo ai sensi dell'art. 2359 c.c.
B25: Colonna J: Indicare "SI" se l'Amministrazione esercita il controllo analogo o più Amministrazioni esercitano il controllo analogo congiunto.
B26: Colonna K: Indicare "SI" se la società emette azioni quotate in mercati regolamentati; se ha emesso, al 31/12/2015, strumenti finanziari quotati in mercati regolamentati;
B27: se sia partecipata da società quotate o che hanno emesso strumenti finanziari quotati.
B28: Colonna L: Indicare "SI" se la società ha come oggetto sociale esclusivo la gestione delle partecipazioni societarie per conto dell'Amministrazione.
L75: SI | M75: 2017
L76: NO | M76: =+M75-1 -> 2016
M77: =+M76-1 -> 2015
M78: =+M77-1 -> 2014
M79: =+M78-1 -> 2013
M80: =+M79-1 -> 2012
M81: =+M80-1 -> 2011
M82: =+M81-1 -> 2010
M83: =+M82-1 -> 2009
M84: =+M83-1 -> 2008
M85: =+M84-1 -> 2007
M86: =+M85-1 -> 2006
M87: =+M86-1 -> 2005
M88: =+M87-1 -> 2004
...

Sheet 03.01_Finalità_Attività_smat
B2: 03. REQUISITI TESTO UNICO DELLE SOCIETÀ A PARTECIPAZIONE PUBBLICA
B3: 03.01. Finalità perseguite e attività ammesse (articoli 4 e 26)
D5: Progressivo società partecipata: | E5: Dir_1 | G5: (a)
D7: Denominazione società partecipata: | E7: SOCIETA' METROPOLITANA ACQUE TORINO S.P.A. | G7: (b)
D9: Tipo partecipazione: | E9: sia diretta che indiretta | G9: (c)
D11: Attività svolta: | E11: SERVIZIO IDRICO INTEGRATO/GESTIONE DEPURATORE | G11: (d)
B13: indicare se la società:
A14: - | B14: Rientra nell'Allegato "A" del d.lgs. n. 175/2016 (art. 26, co. 2)
A16: - | B16: Ha come oggetto esclusivo la gestione di fondi europei per conto dello Stato o delle Regioni, ovvero la realizzazione di progetti di ricerca finanziati dalle istituzioni dell'Unione Europea (art. 26, co. 2)
A18: - | B18: È stata esclusa, con deliberazione adottata ai sensi dell'art. 4 co. 9, secondo periodo, dall'applicazione totale o parziale delle disposizioni del medesimo articolo (solo per le società partecipate dalle Regioni/Prov. Aut.)
A20: - | B20: È destinataria dei provvedimenti di cui al d.lgs. n. 159/2011 (art. 26, co. 12-bis)
A22: - | B22: È autorizzata alla gestione delle case da gioco, ai sensi della legislazione vigente (art. 26, co. 12-sexies)
B24: Qualora non sia stata selezionata alcuna delle opzioni indicate ai punti precedenti, indicare se la società:
A25: - | B25: È costituita in attuazione dell'art. 34 del regolamento CE n. 13/2013 - Gruppi d'Azione Locale (art. 4, co. 6)
A27: - | B27: Ha per oggetto sociale prevalente la gestione di spazi fieristici e l'organizzazione di eventi fieristici (art. 4, co. 7)
A29: - | B29: Ha per oggetto sociale prevalente la realizzazione e la gestione di impianti di trasporto a fune per la mobilità turistico-sportiva in aree montane (art. 4, co. 7)
A31: - | B31: Ha per oggetto sociale prevalente la produzione di energia da fonti rinnovabili (art. 4, co. 7)
A33: - | B33: Ha caratteristiche di spin off o di start up universitario, o analoghe a quelle degli enti di ricerca, ovvero gestisce aziende agricole con funzioni didattiche (art. 4, co. 8)
A35: - | B35: Produce un servizio di interesse generale a rete (di cui all'art. 3-bis del d.l. 138/2011) fuori dall'ambito territoriale di riferimento, con affidamento dei servizi, in corso e nuovi, tramite procedure ad evidenza pubblica (art. 4, co. 9-bis)
A37: - | B37: Produce beni e servizi strettamente necessari per il perseguimento delle finalità istituzionali dell'ente (art. 4, co. 1)
A39: - | B39: Produce un servizio di interesse generale (art. 4, co. 2, lett. a)
A41: - | B41: Progetta e realizza un'opera pubblica sulla base di un accordo di programma fra amministrazioni pubbliche (art. 4, co. 2, lett. b)
A43: - | B43: Realizza e gestisce un'opera pubblica ovvero organizza e gestisce un servizio di interesse generale attraverso un contratto di partenariato pubblico/privato (art. 4, co. 2, lett. c)
A45: - | B45: Produce beni o servizi strumentali all'ente o agli enti pubblici partecipanti o alla svolgimento delle loro funzioni(art. 4, co. 2, lett. d)
A47: - | B47: Svolge servizi di committenza (art. 4, co. 2, lett. e)
A49: - | B49: Valorizza il patrimonio immobiliare dell'amministrazione partecipante (art. 4, co. 3)
B51: Indicare le motivazioni della riconducibilità o meno ai vincoli di scopo di cui al co. 1 o ad una delle attività di cui ai commi 2 e 3, anche con riferimento alle società che svolgono le attività di cui ai commi 6, 7, 8:
B52: PRODUZIONE DI UN SERVIZIO DI INTERESSE GENERALE (SERVIZIO IDRICO INTEGRATO), IVI INCLUSA LA REALIZZAZIONE E LA GESTIONE DELLE RETI E DEGLI IMPIANTI FUNZIONALI AL SERVIZIO MEDESIMO SULLA BASE DI UN AMBITO TERRITORIALE OTTIMALE (ATO 3 "TORINESE") DEFINITO DALLA REGIONE PIEMONTE (CON LE LEGGI REGIONALI N. 13/97 E 7/2012), AI SENSI DI QUANTO DISPOSTO DALL'ART. 147 DEL D.LGS. 152/2006 E S.M.I.. LA SOCIETÀ OPERA CON UN AFFIDAMENTO "IN HOUSE PROVIDING" E PERTANTO REALIZZA OLTE L'80% DELLE ATTIVITÀ A FAVORE DEI 292 COMUNI SOCI. L'AFFIDAMENTO HA VALIDITÀ FINO AL 31.12.2033
B54: (a): Inserire uno dei progressivi già indicati nelle schede di ricognizione (02.01; 02.02).
B55: (b): Inserire la ragione sociale come indicata nelle schede di ricognizione (02.01; 02.02).
B56: (c): Indicare il tipo di partecipazione distinguendo i casi in cui la società sia partecipata direttamente, indirettamente (tramite altra società/organismo),
B57: ovvero in parte direttamente e in parte indirettamente.
B58: (d): Inserire l'attività come indicata nelle schede di ricognizione (02.01; 02.02).

Sheet 03.01_Finalità_Attività_ris idr
B2: 03. REQUISITI TESTO UNICO DELLE SOCIETÀ A PARTECIPAZIONE PUBBLICA
B3: 03.01. Finalità perseguite e attività ammesse (articoli 4 e 26)
D5: Progressivo società partecipata: | E5: Ind_1 | G5: (a)
D7: Denominazione società partecipata: | E7: RISORSE IDRICHE S.P.A. | G7: (b)
D9: Tipo partecipazione: | E9: Indiretta | G9: (c)
D11: Attività svolta: | E11: ENGINEERING | G11: (d)
B13: indicare se la società:
A14: - | B14: Rientra nell'Allegato "A" del d.lgs. n. 175/2016 (art. 26, co. 2)
A16: - | B16: Ha come oggetto esclusivo la gestione di fondi europei per conto dello Stato o delle Regioni, ovvero la realizzazione di progetti di ricerca finanziati dalle istituzioni dell'Unione Europea (art. 26, co. 2)
A18: - | B18: È stata esclusa, con deliberazione adottata ai sensi dell'art. 4 co. 9, secondo periodo, dall'applicazione totale o parziale delle disposizioni del medesimo articolo (solo per le società partecipate dalle Regioni/Prov. Aut.)
A20: - | B20: È destinataria dei provvedimenti di cui al d.lgs. n. 159/2011 (art. 26, co. 12-bis)
A22: - | B22: È autorizzata alla gestione delle case da gioco, ai sensi della legislazione vigente (art. 26, co. 12-sexies)
B24: Qualora non sia stata selezionata alcuna delle opzioni indicate ai punti precedenti, indicare se la società:
A25: - | B25: È costituita in attuazione dell'art. 34 del regolamento CE n. 13/2013 - Gruppi d'Azione Locale (art. 4, co. 6)
A27: - | B27: Ha per oggetto sociale prevalente la gestione di spazi fieristici e l'organizzazione di eventi fieristici (art. 4, co. 7)
A29: - | B29: Ha per oggetto sociale prevalente la realizzazione e la gestione di impianti di trasporto a fune per la mobilità turistico-sportiva in aree montane (art. 4, co. 7)
A31: - | B31: Ha per oggetto sociale prevalente la produzione di energia da fonti rinnovabili (art. 4, co. 7)
A33: - | B33: Ha caratteristiche di spin off o di start up universitario, o analoghe a quelle degli enti di ricerca, ovvero gestisce aziende agricole con funzioni didattiche (art. 4, co. 8)
A35: - | B35: Produce un servizio di interesse generale a rete (di cui all'art. 3-bis del d.l. 138/2011) fuori dall'ambito territoriale di riferimento, con affidamento dei servizi, in corso e nuovi, tramite procedure ad evidenza pubblica (art. 4, co. 9-bis)
A37: - | B37: Produce beni e servizi strettamente necessari per il perseguimento delle finalità istituzionali dell'ente (art. 4, co. 1)
A39: - | B39: Produce un servizio di interesse generale (art. 4, co. 2, lett. a)
A41: - | B41: Progetta e realizza un'opera pubblica sulla base di un accordo di programma fra amministrazioni pubbliche (art. 4, co. 2, lett. b)
A43: - | B43: Realizza e gestisce un'opera pubblica ovvero organizza e gestisce un servizio di interesse generale attraverso un contratto di partenariato pubblico/privato (art. 4, co. 2, lett. c)
A45: - | B45: Produce beni o servizi strumentali all'ente o agli enti pubblici partecipanti o alla svolgimento delle loro funzioni(art. 4, co. 2, lett. d)
A47: - | B47: Svolge servizi di committenza (art. 4, co. 2, lett. e)
A49: - | B49: Valorizza il patrimonio immobiliare dell'amministrazione partecipante (art. 4, co. 3)
B51: Indicare le motivazioni della riconducibilità o meno ai vincoli di scopo di cui al co. 1 o ad una delle attività di cui ai commi 2 e 3, anche con riferimento alle società che svolgono le attività di cui ai commi 6, 7, 8:
B52: PRODUZIONE DI UN SERVIZIO DI ENGENEERING PER UN SERVIZIO DI INTERESSE GENERALE (SERVIZIO IDRICO INTEGRATO), IVI INCLUSA LA REALIZZAZIONE E LA GESTIONE DELLE RETI E DEGLI IMPIANTI FUNZIONALI AL SERVIZIO MEDESIMO SULLA BASE DI UN AMBITO TERRITORIALE OTTIMALE (ATO 3 "TORINESE") DEFINITO DALLA REGIONE PIEMONTE (CON LE LEGGI REGIONALI N. 13/97 E 7/2012), AI SENSI DI QUANTO DISPOSTO DALL'ART. 147 DEL D.LGS. 152/2006 E S.M.I.. IL SERVIZIO E' AFFIDATO DALLA CAPOGRUPPO SMAT AL FINE DI MASSIMIZZARE LA SISTEMATICITA', LA QUALITA', L'EFFICIENZA ORGANIZZATIVA, LA FLESSIBILITA' E LA STANDARDIZZAZIONE PROGETTUALE DELLO SVILUPPO TECNOLOGICO DEL SII CON PARTICOLARE RIFERIMENTO ALL'INFRASTRUTTURAZIONE IDRICA TERRITORIALE CONNESSA CON IL PIANO D'AMBITO
B54: (a): Inserire uno dei progressivi già indicati nelle schede di ricognizione (02.01; 02.02).
B55: (b): Inserire la ragione sociale come indicata nelle schede di ricognizione (02.01; 02.02).
B56: (c): Indicare il tipo di partecipazione distinguendo i casi in cui la società sia partecipata direttamente, indirettamente (tramite altra società/organismo),
B57: ovvero in parte direttamente e in parte indirettamente.
B58: (d): Inserire l'attività come indicata nelle schede di ricognizione (02.01; 02.02).

Sheet 03.01_Finalità_Attività AIDA
B2: 03. REQUISITI TESTO UNICO DELLE SOCIETÀ A PARTECIPAZIONE PUBBLICA
B3: 03.01. Finalità perseguite e attività ammesse (articoli 4 e 26)
D5: Progressivo società partecipata: | E5: Ind_2 | G5: (a)
D7: Denominazione società partecipata: | E7: AIDA AMBIENTE S.R.L. | G7: (b)
D9: Tipo partecipazione: | E9: Indiretta | G9: (c)
D11: Attività svolta: | E11: SERVIZIO IDRICO INTEGRATO/GESTIONE DEPURATORE | G11: (d)
B13: indicare se la società:
A14: - | B14: Rientra nell'Allegato "A" del d.lgs. n. 175/2016 (art. 26, co. 2)
A16: - | B16: Ha come oggetto esclusivo la gestione di fondi europei per conto dello Stato o delle Regioni, ovvero la realizzazione di progetti di ricerca finanziati dalle istituzioni dell'Unione Europea (art. 26, co. 2)
A18: - | B18: È stata esclusa, con deliberazione adottata ai sensi dell'art. 4 co. 9, secondo periodo, dall'applicazione totale o parziale delle disposizioni del medesimo articolo (solo per le società partecipate dalle Regioni/Prov. Aut.)
A20: - | B20: È destinataria dei provvedimenti di cui al d.lgs. n. 159/2011 (art. 26, co. 12-bis)
A22: - | B22: È autorizzata alla gestione delle case da gioco, ai sensi della legislazione vigente (art. 26, co. 12-sexies)
B24: Qualora non sia stata selezionata alcuna delle opzioni indicate ai punti precedenti, indicare se la società:
A25: - | B25: È costituita in attuazione dell'art. 34 del regolamento CE n. 13/2013 - Gruppi d'Azione Locale (art. 4, co. 6)
A27: - | B27: Ha per oggetto sociale prevalente la gestione di spazi fieristici e l'organizzazione di eventi fieristici (art. 4, co. 7)
A29: - | B29: Ha per oggetto sociale prevalente la realizzazione e la gestione di impianti di trasporto a fune per la mobilità turistico-sportiva in aree montane (art. 4, co. 7)
A31: - | B31: Ha per oggetto sociale prevalente la produzione di energia da fonti rinnovabili (art. 4, co. 7)
A33: - | B33: Ha caratteristiche di spin off o di start up universitario, o analoghe a quelle degli enti di ricerca, ovvero gestisce aziende agricole con funzioni didattiche (art. 4, co. 8)
A35: - | B35: Produce un servizio di interesse generale a rete (di cui all'art. 3-bis del d.l. 138/2011) fuori dall'ambito territoriale di riferimento, con affidamento dei servizi, in corso e nuovi, tramite procedure ad evidenza pubblica (art. 4, co. 9-bis)
A37: - | B37: Produce beni e servizi strettamente necessari per il perseguimento delle finalità istituzionali dell'ente (art. 4, co. 1)
A39: - | B39: Produce un servizio di interesse generale (art. 4, co. 2, lett. a)
A41: - | B41: Progetta e realizza un'opera pubblica sulla base di un accordo di programma fra amministrazioni pubbliche (art. 4, co. 2, lett. b)
A43: - | B43: Realizza e gestisce un'opera pubblica ovvero organizza e gestisce un servizio di interesse generale attraverso un contratto di partenariato pubblico/privato (art. 4, co. 2, lett. c)
A45: - | B45: Produce beni o servizi strumentali all'ente o agli enti pubblici partecipanti o alla svolgimento delle loro funzioni(art. 4, co. 2, lett. d)
A47: - | B47: Svolge servizi di committenza (art. 4, co. 2, lett. e)
A49: - | B49: Valorizza il patrimonio immobiliare dell'amministrazione partecipante (art. 4, co. 3)
B51: Indicare le motivazioni della riconducibilità o meno ai vincoli di scopo di cui al co. 1 o ad una delle attività di cui ai commi 2 e 3, anche con riferimento alle società che svolgono le attività di cui ai commi 6, 7, 8:
B52: PRODUCE, CON LA PARTECIPAZIONE DI SMAT , IL SERVIZIO DI GESTIONE DEL DEPURATORE DI PIANEZZA, CHE COSTITUISCE UN SEGMENTO DEL CICLO IDRICO INTEGRATO GESTITO DALLA CAPOGRUPPO QUALE GESTORE UNICO AMBIENTALE NONCHE' LA GESTIONE DI RIFIUTI LIQUIDI QUALI DEFINITI DALLE VIGENTI NORME. IL SERVIZIO STRUMENTALE DELLA GESTIONE DELL'IMPIANTO DI DEPURAZIONE E' AFFIDATO AL FINE DI MASSIMIZZARE LA SISTEMATICITA' E L'UNITARIETA' DEL SII
B54: (a): Inserire uno dei progressivi già indicati nelle schede di ricognizione (02.01; 02.02).
B55: (b): Inserire la ragione sociale come indicata nelle schede di ricognizione (02.01; 02.02).
B56: (c): Indicare il tipo di partecipazione distinguendo i casi in cui la società sia partecipata direttamente, indirettamente (tramite altra società/organismo),
B57: ovvero in parte direttamente e in parte indirettamente.
B58: (d): Inserire l'attività come indicata nelle schede di ricognizione (02.01; 02.02).

Sheet 03.01_Finalità_AttivitàNOVS
B2: 03. REQUISITI TESTO UNICO DELLE SOCIETÀ A PARTECIPAZIONE PUBBLICA
B3: 03.01. Finalità perseguite e attività ammesse (articoli 4 e 26)
D5: Progressivo società partecipata: | E5: Ind_3 | G5: (a)
D7: Denominazione società partecipata: | E7: NORDOVEST SERVIZI S.P.A. | G7: (b)
D9: Tipo partecipazione: | E9: Indiretta | G9: (c)
D11: Attività svolta: | E11: HOLDING | G11: (d)
B13: indicare se la società:
A14: - | B14: Rientra nell'Allegato "A" del d.lgs. n. 175/2016 (art. 26, co. 2)
A16: - | B16: Ha come oggetto esclusivo la gestione di fondi europei per conto dello Stato o delle Regioni, ovvero la realizzazione di progetti di ricerca finanziati dalle istituzioni dell'Unione Europea (art. 26, co. 2)
A18: - | B18: È stata esclusa, con deliberazione adottata ai sensi dell'art. 4 co. 9, secondo periodo, dall'applicazione totale o parziale delle disposizioni del medesimo articolo (solo per le società partecipate dalle Regioni/Prov. Aut.)
A20: - | B20: È destinataria dei provvedimenti di cui al d.lgs. n. 159/2011 (art. 26, co. 12-bis)
A22: - | B22: È autorizzata alla gestione delle case da gioco, ai sensi della legislazione vigente (art. 26, co. 12-sexies)
B24: Qualora non sia stata selezionata alcuna delle opzioni indicate ai punti precedenti, indicare se la società:
A25: - | B25: È costituita in attuazione dell'art. 34 del regolamento CE n. 13/2013 - Gruppi d'Azione Locale (art. 4, co. 6)
A27: - | B27: Ha per oggetto sociale prevalente la gestione di spazi fieristici e l'organizzazione di eventi fieristici (art. 4, co. 7)
A29: - | B29: Ha per oggetto sociale prevalente la realizzazione e la gestione di impianti di trasporto a fune per la mobilità turistico-sportiva in aree montane (art. 4, co. 7)
A31: - | B31: Ha per oggetto sociale prevalente la produzione di energia da fonti rinnovabili (art. 4, co. 7)
A33: - | B33: Ha caratteristiche di spin off o di start up universitario, o analoghe a quelle degli enti di ricerca, ovvero gestisce aziende agricole con funzioni didattiche (art. 4, co. 8)
A35: - | B35: Produce un servizio di interesse generale a rete (di cui all'art. 3-bis del d.l. 138/2011) fuori dall'ambito territoriale di riferimento, con affidamento dei servizi, in corso e nuovi, tramite procedure ad evidenza pubblica (art. 4, co. 9-bis)
A37: - | B37: Produce beni e servizi strettamente necessari per il perseguimento delle finalità istituzionali dell'ente (art. 4, co. 1)
A39: - | B39: Produce un servizio di interesse generale (art. 4, co. 2, lett. a)
A41: - | B41: Progetta e realizza un'opera pubblica sulla base di un accordo di programma fra amministrazioni pubbliche (art. 4, co. 2, lett. b)
A43: - | B43: Realizza e gestisce un'opera pubblica ovvero organizza e gestisce un servizio di interesse generale attraverso un contratto di partenariato pubblico/privato (art. 4, co. 2, lett. c)
A45: - | B45: Produce beni o servizi strumentali all'ente o agli enti pubblici partecipanti o alla svolgimento delle loro funzioni(art. 4, co. 2, lett. d)
A47: - | B47: Svolge servizi di committenza (art. 4, co. 2, lett. e)
A49: - | B49: Valorizza il patrimonio immobiliare dell'amministrazione partecipante (art. 4, co. 3)
B51: Indicare le motivazioni della riconducibilità o meno ai vincoli di scopo di cui al co. 1 o ad una delle attività di cui ai commi 2 e 3, anche con riferimento alle società che svolgono le attività di cui ai commi 6, 7, 8:
B52: LA SOCIETA' GESTISCE LA PARTECIPAZIONE DEL 45% DETERNUTA NELLA "ASTI SERVIZI PUBBLICI S.P.A." ACQUISITA A SEGUITO DI GARA AD EVIDENZA PUBBLICA DALL'ASSOCIAZIONE TEMPORANEA D'IMPRESE COSTITUITA DAGLI STESSI SOCI DI NORD OVEST SERVIZI.
B54: (a): Inserire uno dei progressivi già indicati nelle schede di ricognizione (02.01; 02.02).
B55: (b): Inserire la ragione sociale come indicata nelle schede di ricognizione (02.01; 02.02).
B56: (c): Indicare il tipo di partecipazione distinguendo i casi in cui la società sia partecipata direttamente, indirettamente (tramite altra società/organismo),
B57: ovvero in parte direttamente e in parte indirettamente.
B58: (d): Inserire l'attività come indicata nelle schede di ricognizione (02.01; 02.02).

Sheet 03.01_Finalità_AttivitàMACQ
B2: 03. REQUISITI TESTO UNICO DELLE SOCIETÀ A PARTECIPAZIONE PUBBLICA
B3: 03.01. Finalità perseguite e attività ammesse (articoli 4 e 26)
D5: Progressivo società partecipata: | E5: Ind_4 | G5: (a)
D7: Denominazione società partecipata: | E7: MONDO ACQUA S.P.A. | G7: (b)
D9: Tipo partecipazione: | E9: Indiretta | G9: (c)
D11: Attività svolta: | E11: SERVIZIO IDRICO INTEGRATO | G11: (d)
B13: indicare se la società:
A14: - | B14: Rientra nell'Allegato "A" del d.lgs. n. 175/2016 (art. 26, co. 2)
A16: - | B16: Ha come oggetto esclusivo la gestione di fondi europei per conto dello Stato o delle Regioni, ovvero la realizzazione di progetti di ricerca finanziati dalle istituzioni dell'Unione Europea (art. 26, co. 2)
A18: - | B18: È stata esclusa, con deliberazione adottata ai sensi dell'art. 4 co. 9, secondo periodo, dall'applicazione totale o parziale delle disposizioni del medesimo articolo (solo per le società partecipate dalle Regioni/Prov. Aut.)
A20: - | B20: È destinataria dei provvedimenti di cui al d.lgs. n. 159/2011 (art. 26, co. 12-bis)
A22: - | B22: È autorizzata alla gestione delle case da gioco, ai sensi della legislazione vigente (art. 26, co. 12-sexies)
B24: Qualora non sia stata selezionata alcuna delle opzioni indicate ai punti precedenti, indicare se la società:
A25: - | B25: È costituita in attuazione dell'art. 34 del regolamento CE n. 13/2013 - Gruppi d'Azione Locale (art. 4, co. 6)
A27: - | B27: Ha per oggetto sociale prevalente la gestione di spazi fieristici e l'organizzazione di eventi fieristici (art. 4, co. 7)
A29: - | B29: Ha per oggetto sociale prevalente la realizzazione e la gestione di impianti di trasporto a fune per la mobilità turistico-sportiva in aree montane (art. 4, co. 7)
A31: - | B31: Ha per oggetto sociale prevalente la produzione di energia da fonti rinnovabili (art. 4, co. 7)
A33: - | B33: Ha caratteristiche di spin off o di start up universitario, o analoghe a quelle degli enti di ricerca, ovvero gestisce aziende agricole con funzioni didattiche (art. 4, co. 8)
A35: - | B35: Produce un servizio di interesse generale a rete (di cui all'art. 3-bis del d.l. 138/2011) fuori dall'ambito territoriale di riferimento, con affidamento dei servizi, in corso e nuovi, tramite procedure ad evidenza pubblica (art. 4, co. 9-bis)
A37: - | B37: Produce beni e servizi strettamente necessari per il perseguimento delle finalità istituzionali dell'ente (art. 4, co. 1)
A39: - | B39: Produce un servizio di interesse generale (art. 4, co. 2, lett. a)
A41: - | B41: Progetta e realizza un'opera pubblica sulla base di un accordo di programma fra amministrazioni pubbliche (art. 4, co. 2, lett. b)
A43: - | B43: Realizza e gestisce un'opera pubblica ovvero organizza e gestisce un servizio di interesse generale attraverso un contratto di partenariato pubblico/privato (art. 4, co. 2, lett. c)
A45: - | B45: Produce beni o servizi strumentali all'ente o agli enti pubblici partecipanti o alla svolgimento delle loro funzioni(art. 4, co. 2, lett. d)
A47: - | B47: Svolge servizi di committenza (art. 4, co. 2, lett. e)
A49: - | B49: Valorizza il patrimonio immobiliare dell'amministrazione partecipante (art. 4, co. 3)
B51: Indicare le motivazioni della riconducibilità o meno ai vincoli di scopo di cui al co. 1 o ad una delle attività di cui ai commi 2 e 3, anche con riferimento alle società che svolgono le attività di cui ai commi 6, 7, 8:
B52: PRODUCE, CON LA PARTECIPAZIONE DI SMAT , UN SERVIZIO DI INTERESSE GENERALE (SERVIZIO IDRICO INTEGRATO)IVI INCLUSA LA GESTIONE E LA REALIZZAZIONE DELLE RETI E DEGLI IMPIANTI FUNZIONALI AL SERVIZIO MEDESIMO SULLA BASE DELL'AMBITO TERRITORIALE OTTIMALE ATO4 DEFINITO DALLA REGIONE PIEMONTE (CON LE LEGGI REGIONALI N. 13/97 E 7/2012), AI SENSI DI QUANTO DISPOSTO DALL'ART. 147 DEL D.LGS. 152/2006 E S.M.I.
B54: (a): Inserire uno dei progressivi già indicati nelle schede di ricognizione (02.01; 02.02).
B55: (b): Inserire la ragione sociale come indicata nelle schede di ricognizione (02.01; 02.02).
B56: (c): Indicare il tipo di partecipazione distinguendo i casi in cui la società sia partecipata direttamente, indirettamente (tramite altra società/organismo),
B57: ovvero in parte direttamente e in parte indirettamente.
B58: (d): Inserire l'attività come indicata nelle schede di ricognizione (02.01; 02.02).

Sheet 03.01_Finalità_Attività_ENVI
B2: 03. REQUISITI TESTO UNICO DELLE SOCIETÀ A PARTECIPAZIONE PUBBLICA
B3: 03.01. Finalità perseguite e attività ammesse (articoli 4 e 26)
D5: Progressivo società partecipata: | E5: Ind_5 | G5: (a)
D7: Denominazione società partecipata: | E7: ENVIRONMENT PARK S.P.A. | G7: (b)
D9: Tipo partecipazione: | E9: Indiretta | G9: (c)
D11: Attività svolta: | E11: ATTIVITA' STRUMENTALI RELATIVE AL SERVIZIO IDRICO INTEGRATO (ATTIVITA' DI RICERCA FINALIZZATA ALLO SVILUPPO SOSTENIBILE) | G11: (d)
B13: indicare se la società:
A14: - | B14: Rientra nell'Allegato "A" del d.lgs. n. 175/2016 (art. 26, co. 2)
A16: - | B16: Ha come oggetto esclusivo la gestione di fondi europei per conto dello Stato o delle Regioni, ovvero la realizzazione di progetti di ricerca finanziati dalle istituzioni dell'Unione Europea (art. 26, co. 2)
A18: - | B18: È stata esclusa, con deliberazione adottata ai sensi dell'art. 4 co. 9, secondo periodo, dall'applicazione totale o parziale delle disposizioni del medesimo articolo (solo per le società partecipate dalle Regioni/Prov. Aut.)
A20: - | B20: È destinataria dei provvedimenti di cui al d.lgs. n. 159/2011 (art. 26, co. 12-bis)
A22: - | B22: È autorizzata alla gestione delle case da gioco, ai sensi della legislazione vigente (art. 26, co. 12-sexies)
B24: Qualora non sia stata selezionata alcuna delle opzioni indicate ai punti precedenti, indicare se la società:
A25: - | B25: È costituita in attuazione dell'art. 34 del regolamento CE n. 13/2013 - Gruppi d'Azione Locale (art. 4, co. 6)
A27: - | B27: Ha per oggetto sociale prevalente la gestione di spazi fieristici e l'organizzazione di eventi fieristici (art. 4, co. 7)
A29: - | B29: Ha per oggetto sociale prevalente la realizzazione e la gestione di impianti di trasporto a fune per la mobilità turistico-sportiva in aree montane (art. 4, co. 7)
A31: - | B31: Ha per oggetto sociale prevalente la produzione di energia da fonti rinnovabili (art. 4, co. 7)
A33: - | B33: Ha caratteristiche di spin off o di start up universitario, o analoghe a quelle degli enti di ricerca, ovvero gestisce aziende agricole con funzioni didattiche (art. 4, co. 8)
A35: - | B35: Produce un servizio di interesse generale a rete (di cui all'art. 3-bis del d.l. 138/2011) fuori dall'ambito territoriale di riferimento, con affidamento dei servizi, in corso e nuovi, tramite procedure ad evidenza pubblica (art. 4, co. 9-bis)
A37: - | B37: Produce beni e servizi strettamente necessari per il perseguimento delle finalità istituzionali dell'ente (art. 4, co. 1)
A39: - | B39: Produce un servizio di interesse generale (art. 4, co. 2, lett. a)
A41: - | B41: Progetta e realizza un'opera pubblica sulla base di un accordo di programma fra amministrazioni pubbliche (art. 4, co. 2, lett. b)
A43: - | B43: Realizza e gestisce un'opera pubblica ovvero organizza e gestisce un servizio di interesse generale attraverso un contratto di partenariato pubblico/privato (art. 4, co. 2, lett. c)
A45: - | B45: Produce beni o servizi strumentali all'ente o agli enti pubblici partecipanti o alla svolgimento delle loro funzioni(art. 4, co. 2, lett. d)
A47: - | B47: Svolge servizi di committenza (art. 4, co. 2, lett. e)
A49: - | B49: Valorizza il patrimonio immobiliare dell'amministrazione partecipante (art. 4, co. 3)
B51: Indicare le motivazioni della riconducibilità o meno ai vincoli di scopo di cui al co. 1 o ad una delle attività di cui ai commi 2 e 3, anche con riferimento alle società che svolgono le attività di cui ai commi 6, 7, 8:
B52: PRODUCE, CON LA PARTECIPAZIONE DI SMAT , ATTIVITA' STRUMENTALI AVENTI PER OGGETTO LA GESTIONE DEL PARCO TECNOLOGICO AMBIENTALE DEPUTATO ALLA RICERCA FINALIZZATA ALLO SVILUPPO SOSTENIBILE
B54: (a): Inserire uno dei progressivi già indicati nelle schede di ricognizione (02.01; 02.02).
B55: (b): Inserire la ragione sociale come indicata nelle schede di ricognizione (02.01; 02.02).
B56: (c): Indicare il tipo di partecipazione distinguendo i casi in cui la società sia partecipata direttamente, indirettamente (tramite altra società/organismo),
B57: ovvero in parte direttamente e in parte indirettamente.
B58: (d): Inserire l'attività come indicata nelle schede di ricognizione (02.01; 02.02).

Sheet 03.01_Finalità_Attività SII
B2: 03. REQUISITI TESTO UNICO DELLE SOCIETÀ A PARTECIPAZIONE PUBBLICA
B3: 03.01. Finalità perseguite e attività ammesse (articoli 4 e 26)
D5: Progressivo società partecipata: | E5: Ind_6 | G5: (a)
D7: Denominazione società partecipata: | E7: SII S.P.A. | G7: (b)
D9: Tipo partecipazione: | E9: Indiretta | G9: (c)
D11: Attività svolta: | E11: SERVIZIO IDRICO INTEGRATO | G11: (d)
B13: indicare se la società:
A14: - | B14: Rientra nell'Allegato "A" del d.lgs. n. 175/2016 (art. 26, co. 2)
A16: - | B16: Ha come oggetto esclusivo la gestione di fondi europei per conto dello Stato o delle Regioni, ovvero la realizzazione di progetti di ricerca finanziati dalle istituzioni dell'Unione Europea (art. 26, co. 2)
A18: - | B18: È stata esclusa, con deliberazione adottata ai sensi dell'art. 4 co. 9, secondo periodo, dall'applicazione totale o parziale delle disposizioni del medesimo articolo (solo per le società partecipate dalle Regioni/Prov. Aut.)
A20: - | B20: È destinataria dei provvedimenti di cui al d.lgs. n. 159/2011 (art. 26, co. 12-bis)
A22: - | B22: È autorizzata alla gestione delle case da gioco, ai sensi della legislazione vigente (art. 26, co. 12-sexies)
B24: Qualora non sia stata selezionata alcuna delle opzioni indicate ai punti precedenti, indicare se la società:
A25: - | B25: È costituita in attuazione dell'art. 34 del regolamento CE n. 13/2013 - Gruppi d'Azione Locale (art. 4, co. 6)
A27: - | B27: Ha per oggetto sociale prevalente la gestione di spazi fieristici e l'organizzazione di eventi fieristici (art. 4, co. 7)
A29: - | B29: Ha per oggetto sociale prevalente la realizzazione e la gestione di impianti di trasporto a fune per la mobilità turistico-sportiva in aree montane (art. 4, co. 7)
A31: - | B31: Ha per oggetto sociale prevalente la produzione di energia da fonti rinnovabili (art. 4, co. 7)
A33: - | B33: Ha caratteristiche di spin off o di start up universitario, o analoghe a quelle degli enti di ricerca, ovvero gestisce aziende agricole con funzioni didattiche (art. 4, co. 8)
A35: - | B35: Produce un servizio di interesse generale a rete (di cui all'art. 3-bis del d.l. 138/2011) fuori dall'ambito territoriale di riferimento, con affidamento dei servizi, in corso e nuovi, tramite procedure ad evidenza pubblica (art. 4, co. 9-bis)
A37: - | B37: Produce beni e servizi strettamente necessari per il perseguimento delle finalità istituzionali dell'ente (art. 4, co. 1)
A39: - | B39: Produce un servizio di interesse generale (art. 4, co. 2, lett. a)
A41: - | B41: Progetta e realizza un'opera pubblica sulla base di un accordo di programma fra amministrazioni pubbliche (art. 4, co. 2, lett. b)
A43: - | B43: Realizza e gestisce un'opera pubblica ovvero organizza e gestisce un servizio di interesse generale attraverso un contratto di partenariato pubblico/privato (art. 4, co. 2, lett. c)
A45: - | B45: Produce beni o servizi strumentali all'ente o agli enti pubblici partecipanti o alla svolgimento delle loro funzioni(art. 4, co. 2, lett. d)
A47: - | B47: Svolge servizi di committenza (art. 4, co. 2, lett. e)
A49: - | B49: Valorizza il patrimonio immobiliare dell'amministrazione partecipante (art. 4, co. 3)
B51: Indicare le motivazioni della riconducibilità o meno ai vincoli di scopo di cui al co. 1 o ad una delle attività di cui ai commi 2 e 3, anche con riferimento alle società che svolgono le attività di cui ai commi 6, 7, 8:
B52: PRODUCE, CON LA PARTECIPAZIONE DI SMAT , UN SERVIZIO DI INTERESSE GENERALE (SERVIZIO IDRICO INTEGRATO)IVI INCLUSA LA GESTIONE E LA REALIZZAZIONE DELLE RETI E DEGLI IMPIANTI FUNZIONALI AL SERVIZIO MEDESIMO SULLA BASE DELL'AMBITO TERRITORIALE OTTIMALE ATO2 DEFINITO DALLA REGIONE PIEMONTE (CON LE LEGGI REGIONALI N. 13/97 E 7/2012), AI SENSI DI QUANTO DISPOSTO DALL'ART. 147 DEL D.LGS. 152/2006 E S.M.I.
B54: (a): Inserire uno dei progressivi già indicati nelle schede di ricognizione (02.01; 02.02).
B55: (b): Inserire la ragione sociale come indicata nelle schede di ricognizione (02.01; 02.02).
B56: (c): Indicare il tipo di partecipazione distinguendo i casi in cui la società sia partecipata direttamente, indirettamente (tramite altra società/organismo),
B57: ovvero in parte direttamente e in parte indirettamente.
B58: (d): Inserire l'attività come indicata nelle schede di ricognizione (02.01; 02.02).

Sheet 03.01_Finalità_Attività Utility
B2: 03. REQUISITI TESTO UNICO DELLE SOCIETÀ A PARTECIPAZIONE PUBBLICA
B3: 03.01. Finalità perseguite e attività ammesse (articoli 4 e 26)
D5: Progressivo società partecipata: | E5: Ind_7 | G5: (a)
D7: Denominazione società partecipata: | E7: UTILITY ALLIANCE DEL PIEMONTE (RETE DI IMPRESE) | G7: (b)
D9: Tipo partecipazione: | E9: Indiretta | G9: (c)
D11: Attività svolta: | E11: SERVIZIO IDRICO INTEGRATO | G11: (d)
B13: indicare se la società:
A14: - | B14: Rientra nell'Allegato "A" del d.lgs. n. 175/2016 (art. 26, co. 2)
A16: - | B16: Ha come oggetto esclusivo la gestione di fondi europei per conto dello Stato o delle Regioni, ovvero la realizzazione di progetti di ricerca finanziati dalle istituzioni dell'Unione Europea (art. 26, co. 2)
A18: - | B18: È stata esclusa, con deliberazione adottata ai sensi dell'art. 4 co. 9, secondo periodo, dall'applicazione totale o parziale delle disposizioni del medesimo articolo (solo per le società partecipate dalle Regioni/Prov. Aut.)
A20: - | B20: È destinataria dei provvedimenti di cui al d.lgs. n. 159/2011 (art. 26, co. 12-bis)
A22: - | B22: È autorizzata alla gestione delle case da gioco, ai sensi della legislazione vigente (art. 26, co. 12-sexies)
B24: Qualora non sia stata selezionata alcuna delle opzioni indicate ai punti precedenti, indicare se la società:
A25: - | B25: È costituita in attuazione dell'art. 34 del regolamento CE n. 13/2013 - Gruppi d'Azione Locale (art. 4, co. 6)
A27: - | B27: Ha per oggetto sociale prevalente la gestione di spazi fieristici e l'organizzazione di eventi fieristici (art. 4, co. 7)
A29: - | B29: Ha per oggetto sociale prevalente la realizzazione e la gestione di impianti di trasporto a fune per la mobilità turistico-sportiva in aree montane (art. 4, co. 7)
A31: - | B31: Ha per oggetto sociale prevalente la produzione di energia da fonti rinnovabili (art. 4, co. 7)
A33: - | B33: Ha caratteristiche di spin off o di start up universitario, o analoghe a quelle degli enti di ricerca, ovvero gestisce aziende agricole con funzioni didattiche (art. 4, co. 8)
A35: - | B35: Produce un servizio di interesse generale a rete (di cui all'art. 3-bis del d.l. 138/2011) fuori dall'ambito territoriale di riferimento, con affidamento dei servizi, in corso e nuovi, tramite procedure ad evidenza pubblica (art. 4, co. 9-bis)
A37: - | B37: Produce beni e servizi strettamente necessari per il perseguimento delle finalità istituzionali dell'ente (art. 4, co. 1)
A39: - | B39: Produce un servizio di interesse generale (art. 4, co. 2, lett. a)
A41: - | B41: Progetta e realizza un'opera pubblica sulla base di un accordo di programma fra amministrazioni pubbliche (art. 4, co. 2, lett. b)
A43: - | B43: Realizza e gestisce un'opera pubblica ovvero organizza e gestisce un servizio di interesse generale attraverso un contratto di partenariato pubblico/privato (art. 4, co. 2, lett. c)
A45: - | B45: Produce beni o servizi strumentali all'ente o agli enti pubblici partecipanti o alla svolgimento delle loro funzioni(art. 4, co. 2, lett. d)
A47: - | B47: Svolge servizi di committenza (art. 4, co. 2, lett. e)
A49: - | B49: Valorizza il patrimonio immobiliare dell'amministrazione partecipante (art. 4, co. 3)
B51: Indicare le motivazioni della riconducibilità o meno ai vincoli di scopo di cui al co. 1 o ad una delle attività di cui ai commi 2 e 3, anche con riferimento alle società che svolgono le attività di cui ai commi 6, 7, 8:
B54: (a): Inserire uno dei progressivi già indicati nelle schede di ricognizione (02.01; 02.02).
B55: (b): Inserire la ragione sociale come indicata nelle schede di ricognizione (02.01; 02.02).
B56: (c): Indicare il tipo di partecipazione distinguendo i casi in cui la società sia partecipata direttamente, indirettamente (tramite altra società/organismo),
B57: ovvero in parte direttamente e in parte indirettamente.
B58: (d): Inserire l'attività come indicata nelle schede di ricognizione (02.01; 02.02).

Sheet 03.01_Finalità_Attività_zona
B2: 03. REQUISITI TESTO UNICO DELLE SOCIETÀ A PARTECIPAZIONE PUBBLICA
B3: 03.01. Finalità perseguite e attività ammesse (articoli 4 e 26)
D5: Progressivo società partecipata: | E5: Dir_2 | G5: (a)
D7: Denominazione società partecipata: | E7: ZONA OVEST TORINO S.R.L. | G7: (b)
D9: Tipo partecipazione: | E9: Diretta | G9: (c)
D11: Attività svolta: | E11: LA SOCIETÀ HA PER OGGETTO LO SVOLGIMENTO DI ATTIVITÀ VOLTE IN PARTICOLARE ALLA PROMOZIONE ED ALLO SVILUPPO SOCIALE, ECONOMICO ED INFRASTRUTTURALE DELLA ZONA OVEST DI TORINO, ATTRAVERSO LA REALIZZAZIONE DI PROGETTI SERVIZI DI INTERESSE GENERALE ED INIZIATIVE DI FINANZIAMENTO PUBBLICO E PRIVATO, NONCHÉ ULTERIORI ACCORDI DI PROGRAMMAZIONE NEGOZIATA E DI PARTENARIATO PUBBLICO-PRIVATO. | G11: (d)
B13: indicare se la società:
A14: - | B14: Rientra nell'Allegato "A" del d.lgs. n. 175/2016 (art. 26, co. 2)
A16: - | B16: Ha come oggetto esclusivo la gestione di fondi europei per conto dello Stato o delle Regioni, ovvero la realizzazione di progetti di ricerca finanziati dalle istituzioni dell'Unione Europea (art. 26, co. 2)
A18: - | B18: È stata esclusa, con deliberazione adottata ai sensi dell'art. 4 co. 9, secondo periodo, dall'applicazione totale o parziale delle disposizioni del medesimo articolo (solo per le società partecipate dalle Regioni/Prov. Aut.)
A20: - | B20: È destinataria dei provvedimenti di cui al d.lgs. n. 159/2011 (art. 26, co. 12-bis)
A22: - | B22: È autorizzata alla gestione delle case da gioco, ai sensi della legislazione vigente (art. 26, co. 12-sexies)
B24: Qualora non sia stata selezionata alcuna delle opzioni indicate ai punti precedenti, indicare se la società:
A25: - | B25: È costituita in attuazione dell'art. 34 del regolamento CE n. 13/2013 - Gruppi d'Azione Locale (art. 4, co. 6)
A27: - | B27: Ha per oggetto sociale prevalente la gestione di spazi fieristici e l'organizzazione di eventi fieristici (art. 4, co. 7)
A29: - | B29: Ha per oggetto sociale prevalente la realizzazione e la gestione di impianti di trasporto a fune per la mobilità turistico-sportiva in aree montane (art. 4, co. 7)
A31: - | B31: Ha per oggetto sociale prevalente la produzione di energia da fonti rinnovabili (art. 4, co. 7)
A33: - | B33: Ha caratteristiche di spin off o di start up universitario, o analoghe a quelle degli enti di ricerca, ovvero gestisce aziende agricole con funzioni didattiche (art. 4, co. 8)
A35: - | B35: Produce un servizio di interesse generale a rete (di cui all'art. 3-bis del d.l. 138/2011) fuori dall'ambito territoriale di riferimento, con affidamento dei servizi, in corso e nuovi, tramite procedure ad evidenza pubblica (art. 4, co. 9-bis)
A37: - | B37: Produce beni e servizi strettamente necessari per il perseguimento delle finalità istituzionali dell'ente (art. 4, co. 1)
A39: - | B39: Produce un servizio di interesse generale (art. 4, co. 2, lett. a)
A41: - | B41: Progetta e realizza un'opera pubblica sulla base di un accordo di programma fra amministrazioni pubbliche (art. 4, co. 2, lett. b)
A43: - | B43: Realizza e gestisce un'opera pubblica ovvero organizza e gestisce un servizio di interesse generale attraverso un contratto di partenariato pubblico/privato (art. 4, co. 2, lett. c)
A45: - | B45: Produce beni o servizi strumentali all'ente o agli enti pubblici partecipanti o alla svolgimento delle loro funzioni(art. 4, co. 2, lett. d)
A47: - | B47: Svolge servizi di committenza (art. 4, co. 2, lett. e)
A49: - | B49: Valorizza il patrimonio immobiliare dell'amministrazione partecipante (art. 4, co. 3)
B51: Indicare le motivazioni della riconducibilità o meno ai vincoli di scopo di cui al co. 1 o ad una delle attività di cui ai commi 2 e 3, anche con riferimento alle società che svolgono le attività di cui ai commi 6, 7, 8:
B52: Zona Ovest di Torino srl è una società costituita per il coordinamento e l’attuazione dei patti territoriali, il mantenimento della partecipazione fino al completamento dei relativi progetti è esplicitamente richiesto dall’articolo 26, comma 7, del d.lgs. n. 175/2016. In qualità di soggetto responsabile dei patti territoriali della Zona Ovest di Torino, approvati: Con decreto ministeriale n. 2496 del 23 aprile 2001 e n. 2478 del 12 aprile 2001, ha compiti istituzionali assegnati dalla legge (natura di “Soggetto Responsabile dei patti territoriali” ex D.M. n. 320/2000); è indispensabile al Comune, rispetto agli obiettivi e ai mezzi, per realizzare il programma del patto territoriale
B54: (a): Inserire uno dei progressivi già indicati nelle schede di ricognizione (02.01; 02.02).
B55: (b): Inserire la ragione sociale come indicata nelle schede di ricognizione (02.01; 02.02).
B56: (c): Indicare il tipo di partecipazione distinguendo i casi in cui la società sia partecipata direttamente, indirettamente (tramite altra società/organismo),
B57: ovvero in parte direttamente e in parte indirettamente.
B58: (d): Inserire l'attività come indicata nelle schede di ricognizione (02.01; 02.02).

Sheet 03.01_Finalità_Attività_CIDIU
B2: 03. REQUISITI TESTO UNICO DELLE SOCIETÀ A PARTECIPAZIONE PUBBLICA
B3: 03.01. Finalità perseguite e attività ammesse (articoli 4 e 26)
D5: Progressivo società partecipata: | E5: Dir_3 | G5: (a)
D7: Denominazione società partecipata: | E7: CIDIU S.P.A. | G7: (b)
D9: Tipo partecipazione: | E9: Diretta | G9: (c)
D11: Attività svolta: | E11: GESTIONE RIFIUTI SOLIDI URBANI, DALLA RACCOLTA ALLO SMALTIMENTO, NETTEZZA URBANA PER IL TRAMITE DI CIDIU SERVIZI, SERVIZIO IDRICO INTEGRATO ANCHE TRAMITE PARTECIPAZIONI. INTERVENTI DI BNIFICA E RIPRISTINO AMBIENTALI DI SITI INQUINATI. AUTOTRASPORTO DI COSE PER CONTO TERZI CON MEZZI D QUALUQUE PESO E PORTATA. | G11: (d)
B13: indicare se la società:
A14: - | B14: Rientra nell'Allegato "A" del d.lgs. n. 175/2016 (art. 26, co. 2)
A16: - | B16: Ha come oggetto esclusivo la gestione di fondi europei per conto dello Stato o delle Regioni, ovvero la realizzazione di progetti di ricerca finanziati dalle istituzioni dell'Unione Europea (art. 26, co. 2)
A18: - | B18: È stata esclusa, con deliberazione adottata ai sensi dell'art. 4 co. 9, secondo periodo, dall'applicazione totale o parziale delle disposizioni del medesimo articolo (solo per le società partecipate dalle Regioni/Prov. Aut.)
A20: - | B20: È destinataria dei provvedimenti di cui al d.lgs. n. 159/2011 (art. 26, co. 12-bis)
A22: - | B22: È autorizzata alla gestione delle case da gioco, ai sensi della legislazione vigente (art. 26, co. 12-sexies)
B24: Qualora non sia stata selezionata alcuna delle opzioni indicate ai punti precedenti, indicare se la società:
A25: - | B25: È costituita in attuazione dell'art. 34 del regolamento CE n. 13/2013 - Gruppi d'Azione Locale (art. 4, co. 6)
A27: - | B27: Ha per oggetto sociale prevalente la gestione di spazi fieristici e l'organizzazione di eventi fieristici (art. 4, co. 7)
A29: - | B29: Ha per oggetto sociale prevalente la realizzazione e la gestione di impianti di trasporto a fune per la mobilità turistico-sportiva in aree montane (art. 4, co. 7)
A31: - | B31: Ha per oggetto sociale prevalente la produzione di energia da fonti rinnovabili (art. 4, co. 7)
A33: - | B33: Ha caratteristiche di spin off o di start up universitario, o analoghe a quelle degli enti di ricerca, ovvero gestisce aziende agricole con funzioni didattiche (art. 4, co. 8)
A35: - | B35: Produce un servizio di interesse generale a rete (di cui all'art. 3-bis del d.l. 138/2011) fuori dall'ambito territoriale di riferimento, con affidamento dei servizi, in corso e nuovi, tramite procedure ad evidenza pubblica (art. 4, co. 9-bis)
A37: - | B37: Produce beni e servizi strettamente necessari per il perseguimento delle finalità istituzionali dell'ente (art. 4, co. 1)
A39: - | B39: Produce un servizio di interesse generale (art. 4, co. 2, lett. a)
A41: - | B41: Progetta e realizza un'opera pubblica sulla base di un accordo di programma fra amministrazioni pubbliche (art. 4, co. 2, lett. b)
A43: - | B43: Realizza e gestisce un'opera pubblica ovvero organizza e gestisce un servizio di interesse generale attraverso un contratto di partenariato pubblico/privato (art. 4, co. 2, lett. c)
A45: - | B45: Produce beni o servizi strumentali all'ente o agli enti pubblici partecipanti o alla svolgimento delle loro funzioni(art. 4, co. 2, lett. d)
A47: - | B47: Svolge servizi di committenza (art. 4, co. 2, lett. e)
A49: - | B49: Valorizza il patrimonio immobiliare dell'amministrazione partecipante (art. 4, co. 3)
B51: Indicare le motivazioni della riconducibilità o meno ai vincoli di scopo di cui al co. 1 o ad una delle attività di cui ai commi 2 e 3, anche con riferimento alle società che svolgono le attività di cui ai commi 6, 7, 8:
B54: (a): Inserire uno dei progressivi già indicati nelle schede di ricognizione (02.01; 02.02).
B55: (b): Inserire la ragione sociale come indicata nelle schede di ricognizione (02.01; 02.02).
B56: (c): Indicare il tipo di partecipazione distinguendo i casi in cui la società sia partecipata direttamente, indirettamente (tramite altra società/organismo),
B57: ovvero in parte direttamente e in parte indirettamente.
B58: (d): Inserire l'attività come indicata nelle schede di ricognizione (02.01; 02.02).

Sheet 03.01_Finalità_Attività_CIDSER
B2: 03. REQUISITI TESTO UNICO DELLE SOCIETÀ A PARTECIPAZIONE PUBBLICA
B3: 03.01. Finalità perseguite e attività ammesse (articoli 4 e 26)
D5: Progressivo società partecipata: | E5: Ind_8 | G5: (a)
D7: Denominazione società partecipata: | E7: CIDIU SERVIZI S.P.A. | G7: (b)
D9: Tipo partecipazione: | E9: Indiretta | G9: (c)
D11: Attività svolta: | E11: GESTIONE RIFIUTI SOLIDI URBANI, DALLA RACCOLTA ALLO SMALTIMENTO, NETTEZZA URBANA PER IL TRAMITE DI CIDIU SERVIZI, SERVIZIO IDRICO INTEGRATO ANCHE TRAMITE PARTECIPAZIONI. INTERVENTI DI BNIFICA E RIPRISTINO AMBIENTALI DI SITI INQUINATI. AUTOTRASPORTO DI COS | G11: (d)
B13: indicare se la società:
A14: - | B14: Rientra nell'Allegato "A" del d.lgs. n. 175/2016 (art. 26, co. 2)
A16: - | B16: Ha come oggetto esclusivo la gestione di fondi europei per conto dello Stato o delle Regioni, ovvero la realizzazione di progetti di ricerca finanziati dalle istituzioni dell'Unione Europea (art. 26, co. 2)
A18: - | B18: È stata esclusa, con deliberazione adottata ai sensi dell'art. 4 co. 9, secondo periodo, dall'applicazione totale o parziale delle disposizioni del medesimo articolo (solo per le società partecipate dalle Regioni/Prov. Aut.)
A20: - | B20: È destinataria dei provvedimenti di cui al d.lgs. n. 159/2011 (art. 26, co. 12-bis)
A22: - | B22: È autorizzata alla gestione delle case da gioco, ai sensi della legislazione vigente (art. 26, co. 12-sexies)
B24: Qualora non sia stata selezionata alcuna delle opzioni indicate ai punti precedenti, indicare se la società:
A25: - | B25: È costituita in attuazione dell'art. 34 del regolamento CE n. 13/2013 - Gruppi d'Azione Locale (art. 4, co. 6)
A27: - | B27: Ha per oggetto sociale prevalente la gestione di spazi fieristici e l'organizzazione di eventi fieristici (art. 4, co. 7)
A29: - | B29: Ha per oggetto sociale prevalente la realizzazione e la gestione di impianti di trasporto a fune per la mobilità turistico-sportiva in aree montane (art. 4, co. 7)
A31: - | B31: Ha per oggetto sociale prevalente la produzione di energia da fonti rinnovabili (art. 4, co. 7)
A33: - | B33: Ha caratteristiche di spin off o di start up universitario, o analoghe a quelle degli enti di ricerca, ovvero gestisce aziende agricole con funzioni didattiche (art. 4, co. 8)
A35: - | B35: Produce un servizio di interesse generale a rete (di cui all'art. 3-bis del d.l. 138/2011) fuori dall'ambito territoriale di riferimento, con affidamento dei servizi, in corso e nuovi, tramite procedure ad evidenza pubblica (art. 4, co. 9-bis)
A37: - | B37: Produce beni e servizi strettamente necessari per il perseguimento delle finalità istituzionali dell'ente (art. 4, co. 1)
A39: - | B39: Produce un servizio di interesse generale (art. 4, co. 2, lett. a)
A41: - | B41: Progetta e realizza un'opera pubblica sulla base di un accordo di programma fra amministrazioni pubbliche (art. 4, co. 2, lett. b)
A43: - | B43: Realizza e gestisce un'opera pubblica ovvero organizza e gestisce un servizio di interesse generale attraverso un contratto di partenariato pubblico/privato (art. 4, co. 2, lett. c)
A45: - | B45: Produce beni o servizi strumentali all'ente o agli enti pubblici partecipanti o alla svolgimento delle loro funzioni(art. 4, co. 2, lett. d)
A47: - | B47: Svolge servizi di committenza (art. 4, co. 2, lett. e)
A49: - | B49: Valorizza il patrimonio immobiliare dell'amministrazione partecipante (art. 4, co. 3)
B51: Indicare le motivazioni della riconducibilità o meno ai vincoli di scopo di cui al co. 1 o ad una delle attività di cui ai commi 2 e 3, anche con riferimento alle società che svolgono le attività di cui ai commi 6, 7, 8:
B54: (a): Inserire uno dei progressivi già indicati nelle schede di ricognizione (02.01; 02.02).
B55: (b): Inserire la ragione sociale come indicata nelle schede di ricognizione (02.01; 02.02).
B56: (c): Indicare il tipo di partecipazione distinguendo i casi in cui la società sia partecipata direttamente, indirettamente (tramite altra società/organismo),
B57: ovvero in parte direttamente e in parte indirettamente.
B58: (d): Inserire l'attività come indicata nelle schede di ricognizione (02.01; 02.02).

Sheet 03.02_Condizioni_Art20co.2_smat
B2: 03. REQUISITI TESTO UNICO DELLE SOCIETÀ A PARTECIPAZIONE PUBBLICA
B3: 03.02. Condizioni art. 20, co. 2
D5: Progressivo società partecipata: | E5: 1 | G5: (a)
D7: Denominazione società partecipata: | E7: SOCIETA' METROPOLITANA ACQUE TORINO S.P.A. | G7: (b)
D9: Tipo partecipazione: | E9: sia diretta che indiretta | G9: (c)
D11: Attività svolta: | E11: SERVIZIO IDRICO INTEGRATO/GESTIONE DEPURATORE | G11: (d)
B13: Indicare i seguenti dati con riferimento all'esercizio 2020:
G14: Importi in euro
B15: Numero medio dipendenti (e) | C15: 958 | F15: Costo del personale (f) | G15: 60700787
B16: Numero amministratori | C16: 4 | F16: Compensi amministratori | G16: 278833
B17: di cui nominati dall'Ente | C17: 0 | D17: =+IF(C17>C16,"Attenzione! Il numero indicato non può essere superiore al numero di amministratori","") | F17: Compensi componenti organo di controllo | G17: 124904
B18: Numero componenti organo di controllo | C18: 4
B19: di cui nominati dall'Ente | C19: 0 | D19: =+IF(C19>C18,"Attenzione! Il numero indicato non può essere superiore al numero di componenti dell'organo di controllo","")
C20: Importi in euro | G20: Importi in euro
B21: RISULTATO D'ESERCIZIO (g) | F21: FATTURATO
B22: 2020 | C22: 23684331 | F22: 2020 | G22: 432045582
B23: 2019 | C23: 40102229 | F23: 2019 | G23: 442953395
B24: 2018 | C24: 51796714 | F24: 2018 | G24: 414902740
